BEGIN:VCALENDAR
VERSION:2.0
PRODID:-//wp-events-plugin.com//7.2.3.1//EN
TZID:Europe/London
X-WR-TIMEZONE:Europe/London
BEGIN:VEVENT
UID:242@museumsfederation.cymru
DTSTART;TZID=Europe/London:20241031T100000
DTEND;TZID=Europe/London:20241031T160000
DTSTAMP:20250925T122449Z
URL:https://museumsfederation.cymru/events/legends-and-lanterns-trail-2/
SUMMARY:Legends and Lanterns Trail
DESCRIPTION:Celebrate the Welsh Museums Festival 2024\n\nand join us for a\
 n\nLEGENDS &amp\; LANTERNS TRAIL\n\nfind the lanterns and ghosts around th
 e museum\n\nand claim a goodie bag!\n\n&nbsp\;\n\nFREE for children and fa
 milies\n\nDrop in anytime between\n\n10am and 4pm\n\nWednesday 30th Octobe
 r to Sunday 3rd November 2024\n\n&nbsp\;\n\nand get crafty with us on\n\nW
 ednesday 30th October\n\nmake your own paper pumpkin
ATTACH;FMTTYPE=image/jpeg:https://museumsfederation.cymru/wp-content/uploa
 ds/2025/09/FED-2024-Mus-Fest-Poster-2.jpg
CATEGORIES:North Wales
LOCATION:Penmaenmawr Museum\, The Old Post Office\, Hen Ffordd Conwy\, Penm
 aenmawr\, Conwy\, LL34 6UU\, North Wales\, United Kingdom
GEO:53.268514;-3.919677
X-APPLE-STRUCTURED-LOCATION;VALUE=URI;X-ADDRESS=The Old Post Office\, Hen F
 fordd Conwy\, Penmaenmawr\, Conwy\, LL34 6UU\, North Wales\, United Kingdo
 m;X-APPLE-RADIUS=100;X-TITLE=Penmaenmawr Museum:geo:53.268514,-3.919677
END:VEVENT
BEGIN:VTIMEZONE
TZID:Europe/London
X-LIC-LOCATION:Europe/London
BEGIN:STANDARD
DTSTART:20241027T010000
TZOFFSETFROM:+0100
TZOFFSETTO:+0000
TZNAME:GMT
END:STANDARD
END:VTIMEZONE
END:VCALENDAR