BEGIN:VCALENDAR
VERSION:2.0
PRODID:-//wp-events-plugin.com//7.2.3.1//EN
TZID:Europe/London
X-WR-TIMEZONE:Europe/London
BEGIN:VEVENT
UID:22@museumsfederation.cymru
DTSTART;TZID=Europe/London;VALUE=DATE:20241026
DTEND;TZID=Europe/London;VALUE=DATE:20241104
DTSTAMP:20241002T140130Z
URL:https://museumsfederation.cymru/?post_type=event&p=4097
SUMMARY:Halloween Activity
DESCRIPTION:Experience the hullabaloo of Halloween at the Welsh Museums Fes
 tival this half-term! Visitors can discover our past Halloween traditions\
 , like turnip lanterns\, dirty blackberries\, the ‘Cropped Black Sow’\
 , and ‘Magic Mash’\, with the free Halloween booklet. Written by child
 ren’s author\, Casia Wiliam\, it will keep kids entertained while you ca
 n enjoy the museum’s exhibitions.
ATTACH;FMTTYPE=image/jpeg:https://museumsfederation.cymru/wp-content/uploa
 ds/2025/09/Welsh-Museums-Festival-Halloween-2-Instagram-Post.png
CATEGORIES:North Wales
END:VEVENT
BEGIN:VTIMEZONE
TZID:Europe/London
X-LIC-LOCATION:Europe/London
BEGIN:DAYLIGHT
DTSTART:20240331T020000
TZOFFSETFROM:+0000
TZOFFSETTO:+0100
TZNAME:BST
END:DAYLIGHT
BEGIN:STANDARD
DTSTART:20241027T010000
TZOFFSETFROM:+0100
TZOFFSETTO:+0000
TZNAME:GMT
END:STANDARD
END:VTIMEZONE
END:VCALENDAR