BEGIN:VCALENDAR
VERSION:2.0
PRODID:-//wp-events-plugin.com//7.2.3.1//EN
TZID:Europe/London
X-WR-TIMEZONE:Europe/London
BEGIN:VEVENT
UID:210@museumsfederation.cymru
DTSTART;TZID=Europe/London:20241026T103000
DTEND;TZID=Europe/London:20241026T151500
DTSTAMP:20250925T122429Z
URL:https://museumsfederation.cymru/cy/events/sbwci-calan-gaeaf-2/
SUMMARY:'Sbwci!' Calan Gaeaf
DESCRIPTION:\nYmunwch â ni am Sbwci Calan Gaeaf yn Amgueddfa Parc Howard!\
 n\n\n\nAr ddydd Sadwrn\, 26 Hydref\, dewch â’ch ellyllon a’ch goblins
  am ddiwrnod o weithgareddau brawychus o hwyl!\n\nEin prif ddigwyddiad am 
 12:30 yw dangosiad arbennig o’r ffilm arswyd ParaNorman\, sy’n berffai
 th ar gyfer teuluoedd sy’n dymuno setlo i mewn ar gyfer ffilm ar thema C
 alan Gaeaf. A lle i fwynhau! Mae'r ffilm tua 90 munud o hyd a gradd PG.\n\
 nHefyd yn rhedeg trwy gydol y dydd mae Gweithdai Tŷ Bwgan 'Naid' crefftus
 . Gall plant 5+ oed greu eu tŷ bwganllyd eu hunain sy’n dod yn fyw—yn
  union fel llyfr naid! Bydd y gweithdy yn cael ei arwain gan artist ac yn 
 llawn o’r holl ddeunyddiau iasol sydd eu hangen i wneud campwaith bwganl
 lyd. Cynhelir y sesiynau yn:\n\n- 10:30-11:15\n\n- 11:30-12:15\n\n- 13:30-
 14:15\n\n- 14:30-15:15\n\nGall pob sesiwn gymryd hyd at 16 o gyfranogwyr. 
 Mae'n system y cyntaf i'r felin\, felly gwnewch yn siŵr eich bod yn cyrra
 edd yn gynnar!\n\nAc\, os nad oedd hynny’n ddigon\, gallwch hefyd archwi
 lio ein Llwybr Calan Gaeaf o amgylch yr Amgueddfa. Yn addas ar gyfer pob o
 ed\, mae'r llwybr hwn yn sicr o'ch cadw'n brysur!\n\nDim ond £4 y pen yw 
 cost y diwrnod\, sy'n cynnwys y tri gweithgaredd. Felly dewch wedi gwisgo 
 eich gorau Calan Gaeaf a pharatowch ar gyfer diwrnod o hwyl creadigol\, ia
 sol a chrefftus!\n\n
ATTACH;FMTTYPE=image/jpeg:https://museumsfederation.cymru/wp-content/uploa
 ds/2024/10/462630967_1140742477659576_9098742596479219818_n-1.jpg
CATEGORIES:Gorllewin Cymru
LOCATION:Amgueddfa Parc Howard\, Heol Felinifoel\, Llanelli\, SA15 3LJ\, Wa
 les
GEO:51.688758;-4.158595
X-APPLE-STRUCTURED-LOCATION;VALUE=URI;X-ADDRESS=Heol Felinifoel\, Llanelli\
 , SA15 3LJ\, Wales;X-APPLE-RADIUS=100;X-TITLE=Amgueddfa Parc Howard:geo:51
 .688758,-4.158595
END:VEVENT
BEGIN:VTIMEZONE
TZID:Europe/London
X-LIC-LOCATION:Europe/London
BEGIN:DAYLIGHT
DTSTART:20240331T020000
TZOFFSETFROM:+0000
TZOFFSETTO:+0100
TZNAME:BST
END:DAYLIGHT
END:VTIMEZONE
END:VCALENDAR