BEGIN:VCALENDAR
VERSION:2.0
PRODID:-//wp-events-plugin.com//7.2.3.1//EN
TZID:Europe/London
X-WR-TIMEZONE:Europe/London
BEGIN:VEVENT
UID:7@museumsfederation.cymru
DTSTART;TZID=Europe/London:20241102T100000
DTEND;TZID=Europe/London:20241103T160000
DTSTAMP:20250914T155317Z
URL:https://museumsfederation.cymru/cy/events/milwyr-drwyr-oesoedd/
SUMMARY:Milwyr drwy'r Oesoedd
DESCRIPTION:Dewch I weld ein milwyr drwy'r oesoedd\, yn fyw\, mewn digwyddi
 ad deuddydd. Mae hwn yn ddigwyddiad sy'n rhad ac am ddim\, unwaith y byddw
 ch chi o fewn Castell Caernarfon.
ATTACH;FMTTYPE=image/jpeg:https://museumsfederation.cymru/wp-content/uploa
 ds/2025/09/GX1r0CEWMAEVZP7-2.jpeg
CATEGORIES:Gogledd Cymru
LOCATION:TimeScape Rhayader\, TimeScape Rhayader\, Rhayader\, Powys\, LD6 5
 ER\, Wales\, United Kingdom
GEO:52.302313;-3.505703
X-APPLE-STRUCTURED-LOCATION;VALUE=URI;X-ADDRESS=TimeScape Rhayader\, Rhayad
 er\, Powys\, LD6 5ER\, Wales\, United Kingdom;X-APPLE-RADIUS=100;X-TITLE=T
 imeScape Rhayader:geo:52.302313,-3.505703
END:VEVENT
BEGIN:VTIMEZONE
TZID:Europe/London
X-LIC-LOCATION:Europe/London
BEGIN:STANDARD
DTSTART:20241027T010000
TZOFFSETFROM:+0100
TZOFFSETTO:+0000
TZNAME:GMT
END:STANDARD
END:VTIMEZONE
END:VCALENDAR